BEGIN:VCALENDAR
VERSION:2.0
PRODID:-//ChamberMaster//Event Calendar 2.0//EN
METHOD:PUBLISH
X-PUBLISHED-TTL:P3D
REFRESH-INTERVAL:P3D
CALSCALE:GREGORIAN
BEGIN:VEVENT
DTSTART:20270411T190000Z
DTEND:20270411T210000Z
X-MICROSOFT-CDO-ALLDAYEVENT:FALSE
SUMMARY:MPCSD Dessert Theatre
DESCRIPTION:Dessert Theatre 2027 will showcase the music talents of the MPCSD high school students plus the middle school jazz band and Chain Reaction show choir.
X-ALT-DESC;FMTTYPE=text/html:Dessert Theatre 2027 will showcase the music talents of the MPCSD high school students plus the middle school jazz band and Chain Reaction show choir.
LOCATION:Mount Pleasant Community High School
UID:e.1633.6725
SEQUENCE:3
DTSTAMP:20260420T172848Z
URL:http://business.mountpleasantiowa.org/events/details/mpcsd-dessert-theatre-04-11-2027-6725
END:VEVENT

END:VCALENDAR
