BEGIN:VCALENDAR
VERSION:2.0
PRODID:-//ChamberMaster//Event Calendar 2.0//EN
METHOD:PUBLISH
X-PUBLISHED-TTL:P3D
REFRESH-INTERVAL:P3D
CALSCALE:GREGORIAN
BEGIN:VEVENT
DTSTART:20270411T000000Z
DTEND:20270411T020000Z
X-MICROSOFT-CDO-ALLDAYEVENT:FALSE
SUMMARY:MPCSD Dessert Theatre
DESCRIPTION:Dessert Theatre will showcase the talents of the Mount Pleasant High School music department\, featuring various solo and group ensembles plus the jazz bands and InMotion show choir. There will also be a Sunday afternoon show that will also feature the middle school jazz band and Chain Reaction show choir.
X-ALT-DESC;FMTTYPE=text/html:Dessert Theatre will showcase the talents of the Mount Pleasant High School music department\, featuring various solo and group ensembles plus the jazz bands and InMotion show choir. There will also be a Sunday afternoon show that will also feature the middle school jazz band and Chain Reaction show choir.
LOCATION:Mount Pleasant Community High School
UID:e.1633.6724
SEQUENCE:3
DTSTAMP:20260420T172229Z
URL:http://business.mountpleasantiowa.org/events/details/mpcsd-dessert-theatre-6724
END:VEVENT

END:VCALENDAR
