BEGIN:VCALENDAR
VERSION:2.0
PRODID:-//ChamberMaster//Event Calendar 2.0//EN
METHOD:PUBLISH
X-PUBLISHED-TTL:P3D
REFRESH-INTERVAL:P3D
CALSCALE:GREGORIAN
BEGIN:VEVENT
DTSTART:20270418T000000Z
DTEND:20270418T020000Z
X-MICROSOFT-CDO-ALLDAYEVENT:FALSE
SUMMARY:MPCSD Dessert Theatre
DESCRIPTION:Dessert Theatre will showcase the talents of the Mount Pleasant High School music department\, featuring various solo and group ensembles plus the jazz bands and InMotion show choir. There will also be a Sunday afternoon show that will also feature the middle school jazz band and Chain Reaction show choir.
X-ALT-DESC;FMTTYPE=text/html:Dessert Theatre will showcase the talents of the Mount Pleasant High School music department\, featuring various solo and group ensembles plus the jazz bands and InMotion show choir. There will also be a Sunday afternoon show that will also feature the middle school jazz band and Chain Reaction show choir.
LOCATION:Mount Pleasant High School
UID:e.1633.6726
SEQUENCE:3
DTSTAMP:20260422T222042Z
URL:https://business.mountpleasantiowa.org/events/details/mpcsd-dessert-theatre-04-17-2027-6726
END:VEVENT

END:VCALENDAR
