BEGIN:VCALENDAR
VERSION:2.0
PRODID:-//ChamberMaster//Event Calendar 2.0//EN
METHOD:PUBLISH
X-PUBLISHED-TTL:P3D
REFRESH-INTERVAL:P3D
CALSCALE:GREGORIAN
BEGIN:VEVENT
DTSTART:20270418T190000Z
DTEND:20270418T210000Z
X-MICROSOFT-CDO-ALLDAYEVENT:FALSE
SUMMARY:MPCSD Dessert Theatre
DESCRIPTION:Dessert Theatre will showcase the talents of the Mount Pleasant High School music department\, featuring various solo and group ensembles plus the jazz bands and InMotion show choir. This Sunday show will also feature the middle school jazz band and Chain Reaction show choir.
X-ALT-DESC;FMTTYPE=text/html:Dessert Theatre will showcase the talents of the Mount Pleasant High School music department\, featuring various solo and group ensembles plus the jazz bands and InMotion show choir. This Sunday show will also feature the middle school jazz band and Chain Reaction show choir.
LOCATION:Mount Pleasant High School
UID:e.1633.6727
SEQUENCE:3
DTSTAMP:20260422T222041Z
URL:https://business.mountpleasantiowa.org/events/details/mpcsd-dessert-theatre-04-18-2027-6727
END:VEVENT

END:VCALENDAR
